BEGIN:VCALENDAR
VERSION:2.0
PRODID:-//hacksw/handcal//NONSGML v1.0//EN
BEGIN:VEVENT
SUMMARY:Tournoi du mercredi
UID:ce819987-20a4-4af5-86a1-751be7a5c394
DTSTART:20240807T120000Z
DTEND:20240807T160000Z
LOCATION:Localisation   
CATEGORIES:Sportif
STATUS:
URL;VALUE=URI:https://bridgeclubeauze.sportsregions.fr/evenements/2024/08/07/tournoi-du-mercredi-1942466
END:VEVENT
END:VCALENDAR
