BEGIN:VCALENDAR
VERSION:2.0
PRODID:-//hacksw/handcal//NONSGML v1.0//EN
BEGIN:VEVENT
SUMMARY:Tournoi du mercredi
UID:9c91e0d9-f602-4e5e-8bf2-49c7ac280579
DTSTART:20240821T120000Z
DTEND:20240821T160000Z
LOCATION:Localisation   
CATEGORIES:Sportif
STATUS:
URL;VALUE=URI:https://bridgeclubeauze.sportsregions.fr/evenements/2024/08/21/tournoi-du-mercredi-1942468
END:VEVENT
END:VCALENDAR
