BEGIN:VCALENDAR
VERSION:2.0
PRODID:-//hacksw/handcal//NONSGML v1.0//EN
BEGIN:VEVENT
SUMMARY:Tournoi du mercredi
UID:95b1fc2a-bf05-480b-90b9-7b8be66d9ba6
DTSTART:20240911T120000Z
DTEND:20240911T160000Z
LOCATION:Localisation   
CATEGORIES:Sportif
STATUS:
URL;VALUE=URI:https://bridgeclubeauze.sportsregions.fr/evenements/2024/09/11/tournoi-du-mercredi-1942471
END:VEVENT
END:VCALENDAR
