BEGIN:VCALENDAR
VERSION:2.0
PRODID:-//hacksw/handcal//NONSGML v1.0//EN
BEGIN:VEVENT
SUMMARY:Tournoi du mercredi
UID:3cbf0b43-47a0-4fff-997e-6ad7c3f7a949
DTSTART:20240918T120000Z
DTEND:20240918T160000Z
LOCATION:Localisation   
CATEGORIES:Sportif
STATUS:
URL;VALUE=URI:https://bridgeclubeauze.sportsregions.fr/evenements/2024/09/18/tournoi-du-mercredi-1942472
END:VEVENT
END:VCALENDAR
