BEGIN:VCALENDAR
VERSION:2.0
PRODID:-//hacksw/handcal//NONSGML v1.0//EN
BEGIN:VEVENT
SUMMARY:Tournoi du mercredi
UID:8f686db2-2f38-48bd-94b0-5a07992b5fc2
DTSTART:20240925T120000Z
DTEND:20240925T160000Z
LOCATION:Localisation   
CATEGORIES:Sportif
STATUS:
URL;VALUE=URI:https://bridgeclubeauze.sportsregions.fr/evenements/2024/09/25/tournoi-du-mercredi-1942473
END:VEVENT
END:VCALENDAR
