BEGIN:VCALENDAR
VERSION:2.0
PRODID:-//hacksw/handcal//NONSGML v1.0//EN
BEGIN:VEVENT
SUMMARY:Tournoi du mercredi
UID:a5be50dd-c880-4401-be45-6ee784eb9d27
DTSTART:20241002T120000Z
DTEND:20241002T160000Z
LOCATION:Localisation   
CATEGORIES:Sportif
STATUS:
URL;VALUE=URI:https://bridgeclubeauze.sportsregions.fr/evenements/2024/10/02/tournoi-du-mercredi-1942474
END:VEVENT
END:VCALENDAR
