BEGIN:VCALENDAR
VERSION:2.0
PRODID:-//hacksw/handcal//NONSGML v1.0//EN
BEGIN:VEVENT
SUMMARY:Tournoi du mercredi
UID:62bedbb0-dd06-4df8-af0f-f8265edb50f2
DTSTART:20241016T120000Z
DTEND:20241016T160000Z
LOCATION:Localisation   
CATEGORIES:Sportif
STATUS:
URL;VALUE=URI:https://bridgeclubeauze.sportsregions.fr/evenements/2024/10/16/tournoi-du-mercredi-1942476
END:VEVENT
END:VCALENDAR
