BEGIN:VCALENDAR
VERSION:2.0
PRODID:-//hacksw/handcal//NONSGML v1.0//EN
BEGIN:VEVENT
SUMMARY:Tournoi du mercredi
UID:eafb1afb-d5dc-4a1d-8e4b-f0fd5250a495
DTSTART:20241023T120000Z
DTEND:20241023T160000Z
LOCATION:Localisation   
CATEGORIES:Sportif
STATUS:
URL;VALUE=URI:https://bridgeclubeauze.sportsregions.fr/evenements/2024/10/23/tournoi-du-mercredi-1942477
END:VEVENT
END:VCALENDAR
