BEGIN:VCALENDAR
VERSION:2.0
PRODID:-//hacksw/handcal//NONSGML v1.0//EN
BEGIN:VEVENT
SUMMARY:Tournoi du mercredi
UID:a0d56b4c-1da9-4970-b819-bec19f931d0c
DTSTART:20241030T130000Z
DTEND:20241030T170000Z
LOCATION:Localisation   
CATEGORIES:Sportif
STATUS:
URL;VALUE=URI:https://bridgeclubeauze.sportsregions.fr/evenements/2024/10/30/tournoi-du-mercredi-1942478
END:VEVENT
END:VCALENDAR
