BEGIN:VCALENDAR
VERSION:2.0
PRODID:-//hacksw/handcal//NONSGML v1.0//EN
BEGIN:VEVENT
SUMMARY:Tournoi du mercredi
UID:e0a87163-e050-430b-ac11-6311d7c98d18
DTSTART:20241106T130000Z
DTEND:20241106T170000Z
LOCATION:Localisation   
CATEGORIES:Sportif
STATUS:
URL;VALUE=URI:https://bridgeclubeauze.sportsregions.fr/evenements/2024/11/06/tournoi-du-mercredi-1942479
END:VEVENT
END:VCALENDAR
