BEGIN:VCALENDAR
VERSION:2.0
PRODID:-//hacksw/handcal//NONSGML v1.0//EN
BEGIN:VEVENT
SUMMARY:Tournoi du mercredi
UID:18eb0de7-721d-47c9-9487-1a63051f95e8
DTSTART:20241113T130000Z
DTEND:20241113T170000Z
LOCATION:Localisation   
CATEGORIES:Sportif
STATUS:
URL;VALUE=URI:https://bridgeclubeauze.sportsregions.fr/evenements/2024/11/13/tournoi-du-mercredi-1942480
END:VEVENT
END:VCALENDAR
