BEGIN:VCALENDAR
VERSION:2.0
PRODID:-//hacksw/handcal//NONSGML v1.0//EN
BEGIN:VEVENT
SUMMARY:Tournoi du mercredi
UID:8ec1fadc-e54e-4a16-8922-e1d338549617
DTSTART:20241120T130000Z
DTEND:20241120T170000Z
LOCATION:Localisation   
CATEGORIES:Sportif
STATUS:
URL;VALUE=URI:https://bridgeclubeauze.sportsregions.fr/evenements/2024/11/20/tournoi-du-mercredi-1942481
END:VEVENT
END:VCALENDAR
