BEGIN:VCALENDAR
VERSION:2.0
PRODID:-//hacksw/handcal//NONSGML v1.0//EN
BEGIN:VEVENT
SUMMARY:Tournoi du mercredi
UID:71e7b6dc-6632-4fbc-b199-7fe85eb5edc4
DTSTART:20241127T130000Z
DTEND:20241127T170000Z
LOCATION:Localisation   
CATEGORIES:Sportif
STATUS:
URL;VALUE=URI:https://bridgeclubeauze.sportsregions.fr/evenements/2024/11/27/tournoi-du-mercredi-1942482
END:VEVENT
END:VCALENDAR
