BEGIN:VCALENDAR
VERSION:2.0
PRODID:-//hacksw/handcal//NONSGML v1.0//EN
BEGIN:VEVENT
SUMMARY:Tournoi du mercredi
UID:ee2f1c0c-78bc-4758-a4cf-3a52e246e15c
DTSTART:20241204T130000Z
DTEND:20241204T170000Z
LOCATION:Localisation   
CATEGORIES:Sportif
STATUS:
URL;VALUE=URI:https://bridgeclubeauze.sportsregions.fr/evenements/2024/12/04/tournoi-du-mercredi-1942483
END:VEVENT
END:VCALENDAR
