BEGIN:VCALENDAR
VERSION:2.0
PRODID:-//hacksw/handcal//NONSGML v1.0//EN
BEGIN:VEVENT
SUMMARY:Tournoi du mercredi
UID:74338779-2d92-4f81-aeed-ba65d76ee536
DTSTART:20241218T130000Z
DTEND:20241218T170000Z
LOCATION:Localisation   
CATEGORIES:Sportif
STATUS:
URL;VALUE=URI:https://bridgeclubeauze.sportsregions.fr/evenements/2024/12/18/tournoi-du-mercredi-1942485
END:VEVENT
END:VCALENDAR
