BEGIN:VCALENDAR
VERSION:2.0
PRODID:-//hacksw/handcal//NONSGML v1.0//EN
BEGIN:VEVENT
SUMMARY:Tournoi du mercredi
UID:19de53e1-939b-4534-bb73-917ae24b195a
DTSTART:20250108T130000Z
DTEND:20250108T170000Z
LOCATION:Localisation   
CATEGORIES:Sportif
STATUS:
DESCRIPTION:<p>Tournoi de bridge a Eauze</p>
 
URL;VALUE=URI:https://bridgeclubeauze.sportsregions.fr/evenements/2025/01/08/tournoi-du-mercredi-2154413
END:VEVENT
END:VCALENDAR
