BEGIN:VCALENDAR
VERSION:2.0
PRODID:-//hacksw/handcal//NONSGML v1.0//EN
BEGIN:VEVENT
SUMMARY:Tournoi du mercredi
UID:1028cb70-af5f-4e84-97f1-d72660687044
DTSTART:20250115T130000Z
DTEND:20250115T170000Z
LOCATION:Localisation   
CATEGORIES:Sportif
STATUS:
DESCRIPTION:<p>Tournoi de bridge a Eauze</p>
 
URL;VALUE=URI:https://bridgeclubeauze.sportsregions.fr/evenements/2025/01/15/tournoi-du-mercredi-2154420
END:VEVENT
END:VCALENDAR
