BEGIN:VCALENDAR
VERSION:2.0
PRODID:-//hacksw/handcal//NONSGML v1.0//EN
BEGIN:VEVENT
SUMMARY:Tournoi du mercredi
UID:0cbd03c7-80e3-4252-a00b-8679fdad146f
DTSTART:20250205T130000Z
DTEND:20250205T170000Z
LOCATION:Localisation   
CATEGORIES:Sportif
STATUS:
DESCRIPTION:<p>Tournoi de bridge a Eauze</p>
 
URL;VALUE=URI:https://bridgeclubeauze.sportsregions.fr/evenements/2025/02/05/tournoi-du-mercredi-2154423
END:VEVENT
END:VCALENDAR
