BEGIN:VCALENDAR
VERSION:2.0
PRODID:-//hacksw/handcal//NONSGML v1.0//EN
BEGIN:VEVENT
SUMMARY:Tournoi du mercredi
UID:c5acd700-3a92-4c73-b536-e3bd0449e0e3
DTSTART:20250212T130000Z
DTEND:20250212T170000Z
LOCATION:Localisation   
CATEGORIES:Sportif
STATUS:
DESCRIPTION:<p>Tournoi de bridge a Eauze</p>
 
URL;VALUE=URI:https://bridgeclubeauze.sportsregions.fr/evenements/2025/02/12/tournoi-du-mercredi-2154424
END:VEVENT
END:VCALENDAR
