BEGIN:VCALENDAR
VERSION:2.0
PRODID:-//hacksw/handcal//NONSGML v1.0//EN
BEGIN:VEVENT
SUMMARY:Tournoi du mercredi
UID:7286db50-ab9e-4a50-92d0-53305af06187
DTSTART:20250219T130000Z
DTEND:20250219T170000Z
LOCATION:Localisation   
CATEGORIES:Sportif
STATUS:
DESCRIPTION:<p>Tournoi de bridge a Eauze</p>
 
URL;VALUE=URI:https://bridgeclubeauze.sportsregions.fr/evenements/2025/02/19/tournoi-du-mercredi-2154425
END:VEVENT
END:VCALENDAR
