BEGIN:VCALENDAR
VERSION:2.0
PRODID:-//hacksw/handcal//NONSGML v1.0//EN
BEGIN:VEVENT
SUMMARY:Tournoi du mercredi
UID:b3da2c47-88dc-46f4-8719-9bd38aa3bfec
DTSTART:20250319T130000Z
DTEND:20250319T170000Z
LOCATION:Localisation   
CATEGORIES:Sportif
STATUS:
DESCRIPTION:<p>Tournoi de bridge a Eauze</p>
 
URL;VALUE=URI:https://bridgeclubeauze.sportsregions.fr/evenements/2025/03/19/tournoi-du-mercredi-2154429
END:VEVENT
END:VCALENDAR
