BEGIN:VCALENDAR
VERSION:2.0
PRODID:-//hacksw/handcal//NONSGML v1.0//EN
BEGIN:VEVENT
SUMMARY:Tournoi du mercredi
UID:8889dd66-65a4-4a96-9966-eb7fe544e0f5
DTSTART:20250416T120000Z
DTEND:20250416T160000Z
LOCATION:Localisation   
CATEGORIES:Sportif
STATUS:
DESCRIPTION:<p>Tournoi de bridge a Eauze</p>
 
URL;VALUE=URI:https://bridgeclubeauze.sportsregions.fr/evenements/2025/04/16/tournoi-du-mercredi-2154433
END:VEVENT
END:VCALENDAR
