BEGIN:VCALENDAR
VERSION:2.0
PRODID:-//hacksw/handcal//NONSGML v1.0//EN
BEGIN:VEVENT
SUMMARY:Tournoi du mercredi
UID:b88a567d-5804-40f1-96cc-9b8159a02ebf
DTSTART:20250423T120000Z
DTEND:20250423T160000Z
LOCATION:Localisation   
CATEGORIES:Sportif
STATUS:
DESCRIPTION:<p>Tournoi de bridge a Eauze</p>
 
URL;VALUE=URI:https://bridgeclubeauze.sportsregions.fr/evenements/2025/04/23/tournoi-du-mercredi-2154434
END:VEVENT
END:VCALENDAR
