BEGIN:VCALENDAR
VERSION:2.0
PRODID:-//hacksw/handcal//NONSGML v1.0//EN
BEGIN:VEVENT
SUMMARY:Tournoi du mercredi
UID:bf4e0a0f-1c4a-48c0-976e-aa4e3abee88d
DTSTART:20250507T120000Z
DTEND:20250507T160000Z
LOCATION:Localisation   
CATEGORIES:Sportif
STATUS:
DESCRIPTION:<p>Tournoi de bridge a Eauze</p>
 
URL;VALUE=URI:https://bridgeclubeauze.sportsregions.fr/evenements/2025/05/07/tournoi-du-mercredi-2154436
END:VEVENT
END:VCALENDAR
