BEGIN:VCALENDAR
VERSION:2.0
PRODID:-//hacksw/handcal//NONSGML v1.0//EN
BEGIN:VEVENT
SUMMARY:Tournoi du mercredi
UID:7d334305-d30e-4b30-9d62-452c8fd589f6
DTSTART:20250514T120000Z
DTEND:20250514T160000Z
LOCATION:Localisation   
CATEGORIES:Sportif
STATUS:
DESCRIPTION:<p>Tournoi de bridge a Eauze</p>
 
URL;VALUE=URI:https://bridgeclubeauze.sportsregions.fr/evenements/2025/05/14/tournoi-du-mercredi-2154437
END:VEVENT
END:VCALENDAR
