BEGIN:VCALENDAR
VERSION:2.0
PRODID:-//hacksw/handcal//NONSGML v1.0//EN
BEGIN:VEVENT
SUMMARY:Tournoi du mercredi
UID:e936af5a-0ccf-4eda-b081-3a833dd998ec
DTSTART:20250521T120000Z
DTEND:20250521T160000Z
LOCATION:Localisation   
CATEGORIES:Sportif
STATUS:
DESCRIPTION:<p>Tournoi de bridge a Eauze</p>
 
URL;VALUE=URI:https://bridgeclubeauze.sportsregions.fr/evenements/2025/05/21/tournoi-du-mercredi-2154438
END:VEVENT
END:VCALENDAR
