BEGIN:VCALENDAR
VERSION:2.0
PRODID:-//hacksw/handcal//NONSGML v1.0//EN
BEGIN:VEVENT
SUMMARY:Tournoi du mercredi
UID:c111ff55-a4b2-40b6-8e62-9af3b78d9584
DTSTART:20250528T120000Z
DTEND:20250528T160000Z
LOCATION:Localisation   
CATEGORIES:Sportif
STATUS:
DESCRIPTION:<p>Tournoi de bridge a Eauze</p>
 
URL;VALUE=URI:https://bridgeclubeauze.sportsregions.fr/evenements/2025/05/28/tournoi-du-mercredi-2154439
END:VEVENT
END:VCALENDAR
