BEGIN:VCALENDAR
VERSION:2.0
PRODID:-//hacksw/handcal//NONSGML v1.0//EN
BEGIN:VEVENT
SUMMARY:Tournoi du mercredi
UID:411c1486-e33c-438a-a226-8980aebedb51
DTSTART:20250604T120000Z
DTEND:20250604T160000Z
LOCATION:Localisation   
CATEGORIES:Sportif
STATUS:
DESCRIPTION:<p>Tournoi de bridge a Eauze</p>
 
URL;VALUE=URI:https://bridgeclubeauze.sportsregions.fr/evenements/2025/06/04/tournoi-du-mercredi-2154440
END:VEVENT
END:VCALENDAR
