BEGIN:VCALENDAR
VERSION:2.0
PRODID:-//hacksw/handcal//NONSGML v1.0//EN
BEGIN:VEVENT
SUMMARY:Tournoi du mercredi
UID:92c49d0d-b5df-4593-bf79-d041c2933240
DTSTART:20250611T120000Z
DTEND:20250611T160000Z
LOCATION:Localisation   
CATEGORIES:Sportif
STATUS:
DESCRIPTION:<p>Tournoi de bridge a Eauze</p>
 
URL;VALUE=URI:https://bridgeclubeauze.sportsregions.fr/evenements/2025/06/11/tournoi-du-mercredi-2154441
END:VEVENT
END:VCALENDAR
