BEGIN:VCALENDAR
VERSION:2.0
PRODID:-//hacksw/handcal//NONSGML v1.0//EN
BEGIN:VEVENT
SUMMARY:Tournoi du mercredi
UID:578deae4-3038-424c-8406-57aadb0adc5e
DTSTART:20250618T120000Z
DTEND:20250618T160000Z
LOCATION:Localisation   
CATEGORIES:Sportif
STATUS:
DESCRIPTION:<p>Tournoi de bridge a Eauze</p>
 
URL;VALUE=URI:https://bridgeclubeauze.sportsregions.fr/evenements/2025/06/18/tournoi-du-mercredi-2154442
END:VEVENT
END:VCALENDAR
