BEGIN:VCALENDAR
VERSION:2.0
PRODID:-//hacksw/handcal//NONSGML v1.0//EN
BEGIN:VEVENT
SUMMARY:Tournoi du mercredi
UID:60764d5f-2b08-4ba4-87fa-863be930b9e8
DTSTART:20250625T120000Z
DTEND:20250625T160000Z
LOCATION:Localisation   
CATEGORIES:Sportif
STATUS:
DESCRIPTION:<p>Tournoi de bridge a Eauze</p>
 
URL;VALUE=URI:https://bridgeclubeauze.sportsregions.fr/evenements/2025/06/25/tournoi-du-mercredi-2154443
END:VEVENT
END:VCALENDAR
