BEGIN:VCALENDAR
VERSION:2.0
PRODID:-//hacksw/handcal//NONSGML v1.0//EN
BEGIN:VEVENT
SUMMARY:Tournoi du mercredi
UID:bcf06ebf-400c-4f8d-a7eb-fc458f592675
DTSTART:20250702T120000Z
DTEND:20250702T160000Z
LOCATION:Localisation   
CATEGORIES:Sportif
STATUS:
DESCRIPTION:<p>Tournoi de bridge a Eauze</p>
 
URL;VALUE=URI:https://bridgeclubeauze.sportsregions.fr/evenements/2025/07/02/tournoi-du-mercredi-2154444
END:VEVENT
END:VCALENDAR
