BEGIN:VCALENDAR
VERSION:2.0
PRODID:-//hacksw/handcal//NONSGML v1.0//EN
BEGIN:VEVENT
SUMMARY:Tournoi du mercredi
UID:eaae11a8-80ce-406d-98fc-2c1aa11b09cf
DTSTART:20250709T120000Z
DTEND:20250709T160000Z
LOCATION:Localisation   
CATEGORIES:Sportif
STATUS:
DESCRIPTION:<p>Tournoi de bridge a Eauze</p>
 
URL;VALUE=URI:https://bridgeclubeauze.sportsregions.fr/evenements/2025/07/09/tournoi-du-mercredi-2154445
END:VEVENT
END:VCALENDAR
