BEGIN:VCALENDAR
VERSION:2.0
PRODID:-//hacksw/handcal//NONSGML v1.0//EN
BEGIN:VEVENT
SUMMARY:Tournoi du mercredi
UID:5ce00371-bb38-4604-a21c-c16e26adbe78
DTSTART:20250716T120000Z
DTEND:20250716T160000Z
LOCATION:Localisation   
CATEGORIES:Sportif
STATUS:
DESCRIPTION:<p>Tournoi de bridge a Eauze</p>
 
URL;VALUE=URI:https://bridgeclubeauze.sportsregions.fr/evenements/2025/07/16/tournoi-du-mercredi-2154446
END:VEVENT
END:VCALENDAR
