BEGIN:VCALENDAR
VERSION:2.0
PRODID:-//hacksw/handcal//NONSGML v1.0//EN
BEGIN:VEVENT
SUMMARY:Tournoi du mercredi
UID:e7632dda-2502-4b1c-b80e-7723b1cc2fb3
DTSTART:20250723T120000Z
DTEND:20250723T160000Z
LOCATION:Localisation   
CATEGORIES:Sportif
STATUS:
DESCRIPTION:<p>Tournoi de bridge a Eauze</p>
 
URL;VALUE=URI:https://bridgeclubeauze.sportsregions.fr/evenements/2025/07/23/tournoi-du-mercredi-2154447
END:VEVENT
END:VCALENDAR
