BEGIN:VCALENDAR
VERSION:2.0
PRODID:-//hacksw/handcal//NONSGML v1.0//EN
BEGIN:VEVENT
SUMMARY:Tournoi du mercredi
UID:c662ed51-7dec-4b5a-bc74-727f049eb63d
DTSTART:20250730T120000Z
DTEND:20250730T160000Z
LOCATION:Localisation   
CATEGORIES:Sportif
STATUS:
DESCRIPTION:<p>Tournoi de bridge a Eauze</p>
 
URL;VALUE=URI:https://bridgeclubeauze.sportsregions.fr/evenements/2025/07/30/tournoi-du-mercredi-2154448
END:VEVENT
END:VCALENDAR
