BEGIN:VCALENDAR
VERSION:2.0
PRODID:-//hacksw/handcal//NONSGML v1.0//EN
BEGIN:VEVENT
SUMMARY:Tournoi du mercredi
UID:0e69c69d-e0f5-427b-a401-b9249da1694b
DTSTART:20250806T120000Z
DTEND:20250806T160000Z
LOCATION:Localisation   
CATEGORIES:Sportif
STATUS:
DESCRIPTION:<p>Tournoi de bridge a Eauze</p>
 
URL;VALUE=URI:https://bridgeclubeauze.sportsregions.fr/evenements/2025/08/06/tournoi-du-mercredi-2154449
END:VEVENT
END:VCALENDAR
