BEGIN:VCALENDAR
VERSION:2.0
PRODID:-//hacksw/handcal//NONSGML v1.0//EN
BEGIN:VEVENT
SUMMARY:Tournoi du mercredi
UID:4491e676-0e05-4d5a-8252-f13c19fcb5a7
DTSTART:20250813T120000Z
DTEND:20250813T160000Z
LOCATION:Localisation   
CATEGORIES:Sportif
STATUS:
DESCRIPTION:<p>Tournoi de bridge a Eauze</p>
 
URL;VALUE=URI:https://bridgeclubeauze.sportsregions.fr/evenements/2025/08/13/tournoi-du-mercredi-2154450
END:VEVENT
END:VCALENDAR
