BEGIN:VCALENDAR
VERSION:2.0
PRODID:-//hacksw/handcal//NONSGML v1.0//EN
BEGIN:VEVENT
SUMMARY:Tournoi du mercredi
UID:f22a6274-3162-4de4-a692-0c5993956089
DTSTART:20250820T120000Z
DTEND:20250820T160000Z
LOCATION:Localisation   
CATEGORIES:Sportif
STATUS:
DESCRIPTION:<p>Tournoi de bridge a Eauze</p>
 
URL;VALUE=URI:https://bridgeclubeauze.sportsregions.fr/evenements/2025/08/20/tournoi-du-mercredi-2154451
END:VEVENT
END:VCALENDAR
