BEGIN:VCALENDAR
VERSION:2.0
PRODID:-//hacksw/handcal//NONSGML v1.0//EN
BEGIN:VEVENT
SUMMARY:Tournoi du mercredi
UID:5c82c83e-c702-4d45-9a10-912dbff6ad59
DTSTART:20250903T120000Z
DTEND:20250903T160000Z
LOCATION:Localisation   
CATEGORIES:Sportif
STATUS:
DESCRIPTION:<p>Tournoi de bridge a Eauze</p>
 
URL;VALUE=URI:https://bridgeclubeauze.sportsregions.fr/evenements/2025/09/03/tournoi-du-mercredi-2154453
END:VEVENT
END:VCALENDAR
