BEGIN:VCALENDAR
VERSION:2.0
PRODID:-//hacksw/handcal//NONSGML v1.0//EN
BEGIN:VEVENT
SUMMARY:Tournoi du mercredi
UID:bd6358ff-693a-4b54-9c29-acca74e13be3
DTSTART:20250910T120000Z
DTEND:20250910T160000Z
LOCATION:Localisation   
CATEGORIES:Sportif
STATUS:
DESCRIPTION:<p>Tournoi de bridge a Eauze</p>
 
URL;VALUE=URI:https://bridgeclubeauze.sportsregions.fr/evenements/2025/09/10/tournoi-du-mercredi-2154454
END:VEVENT
END:VCALENDAR
