BEGIN:VCALENDAR
VERSION:2.0
PRODID:-//hacksw/handcal//NONSGML v1.0//EN
BEGIN:VEVENT
SUMMARY:Tournoi du mercredi
UID:0e1882c0-4dc0-41fb-94dc-5ba076d2062d
DTSTART:20250917T120000Z
DTEND:20250917T160000Z
LOCATION:Localisation   
CATEGORIES:Sportif
STATUS:
DESCRIPTION:<p>Tournoi de bridge a Eauze</p>
 
URL;VALUE=URI:https://bridgeclubeauze.sportsregions.fr/evenements/2025/09/17/tournoi-du-mercredi-2154455
END:VEVENT
END:VCALENDAR
