BEGIN:VCALENDAR
VERSION:2.0
PRODID:-//hacksw/handcal//NONSGML v1.0//EN
BEGIN:VEVENT
SUMMARY:Tournoi du mercredi
UID:b392b1dd-ae9d-4901-bfb3-001d20d35702
DTSTART:20251001T120000Z
DTEND:20251001T160000Z
LOCATION:Localisation   
CATEGORIES:Sportif
STATUS:
DESCRIPTION:<p>Tournoi de bridge a Eauze</p>
 
URL;VALUE=URI:https://bridgeclubeauze.sportsregions.fr/evenements/2025/10/01/tournoi-du-mercredi-2154457
END:VEVENT
END:VCALENDAR
