BEGIN:VCALENDAR
VERSION:2.0
PRODID:-//hacksw/handcal//NONSGML v1.0//EN
BEGIN:VEVENT
SUMMARY:Tournoi du mercredi
UID:ac2b5664-bdc7-43cb-b708-f00c84f5caaa
DTSTART:20251008T120000Z
DTEND:20251008T160000Z
LOCATION:Localisation   
CATEGORIES:Sportif
STATUS:
DESCRIPTION:<p>Tournoi de bridge a Eauze</p>
 
URL;VALUE=URI:https://bridgeclubeauze.sportsregions.fr/evenements/2025/10/08/tournoi-du-mercredi-2154458
END:VEVENT
END:VCALENDAR
