BEGIN:VCALENDAR
VERSION:2.0
PRODID:-//hacksw/handcal//NONSGML v1.0//EN
BEGIN:VEVENT
SUMMARY:Tournoi du mercredi
UID:082e15fe-6ef8-4fd7-935e-b9f71a26187e
DTSTART:20251015T120000Z
DTEND:20251015T160000Z
LOCATION:Localisation   
CATEGORIES:Sportif
STATUS:
DESCRIPTION:<p>Tournoi de bridge a Eauze</p>
 
URL;VALUE=URI:https://bridgeclubeauze.sportsregions.fr/evenements/2025/10/15/tournoi-du-mercredi-2154459
END:VEVENT
END:VCALENDAR
