BEGIN:VCALENDAR
VERSION:2.0
PRODID:-//hacksw/handcal//NONSGML v1.0//EN
BEGIN:VEVENT
SUMMARY:Tournoi du mercredi
UID:c90ed9fd-d6b0-44e5-9252-0d53eaa824dd
DTSTART:20251022T120000Z
DTEND:20251022T160000Z
LOCATION:Localisation   
CATEGORIES:Sportif
STATUS:
DESCRIPTION:<p>Tournoi de bridge a Eauze</p>
 
URL;VALUE=URI:https://bridgeclubeauze.sportsregions.fr/evenements/2025/10/22/tournoi-du-mercredi-2154460
END:VEVENT
END:VCALENDAR
