BEGIN:VCALENDAR
VERSION:2.0
PRODID:-//hacksw/handcal//NONSGML v1.0//EN
BEGIN:VEVENT
SUMMARY:Tournoi du mercredi
UID:39e5ee11-e593-4bff-86ca-81e395fd030e
DTSTART:20251029T130000Z
DTEND:20251029T170000Z
LOCATION:Localisation   
CATEGORIES:Sportif
STATUS:
DESCRIPTION:<p>Tournoi de bridge a Eauze</p>
 
URL;VALUE=URI:https://bridgeclubeauze.sportsregions.fr/evenements/2025/10/29/tournoi-du-mercredi-2154461
END:VEVENT
END:VCALENDAR
