BEGIN:VCALENDAR
VERSION:2.0
PRODID:-//hacksw/handcal//NONSGML v1.0//EN
BEGIN:VEVENT
SUMMARY:Tournoi du mercredi
UID:597476c1-40fa-4a9a-b535-f4bba3804a32
DTSTART:20251119T130000Z
DTEND:20251119T170000Z
LOCATION:Localisation   
CATEGORIES:Sportif
STATUS:
DESCRIPTION:<p>Tournoi de bridge a Eauze</p>
URL;VALUE=URI:https://bridgeclubeauze.sportsregions.fr/evenements/2025/11/19/tournoi-du-mercredi-2154464
END:VEVENT
END:VCALENDAR
