BEGIN:VCALENDAR
VERSION:2.0
PRODID:-//hacksw/handcal//NONSGML v1.0//EN
BEGIN:VEVENT
SUMMARY:Tournoi du mercredi
UID:e9f40ada-683c-4903-a5c7-833c75f5103b
DTSTART:20251126T130000Z
DTEND:20251126T170000Z
LOCATION:Localisation   
CATEGORIES:Sportif
STATUS:
DESCRIPTION:<p>Tournoi de bridge a Eauze</p>
URL;VALUE=URI:https://bridgeclubeauze.sportsregions.fr/evenements/2025/11/26/tournoi-du-mercredi-2154465
END:VEVENT
END:VCALENDAR
