BEGIN:VCALENDAR
VERSION:2.0
PRODID:-//hacksw/handcal//NONSGML v1.0//EN
BEGIN:VEVENT
SUMMARY:Tournoi du mercredi
UID:ba9a0ad1-c1ee-485c-870b-72593fe5040b
DTSTART:20251210T130000Z
DTEND:20251210T170000Z
LOCATION:Localisation   
CATEGORIES:Sportif
STATUS:
DESCRIPTION:<p>Tournoi de bridge a Eauze</p>
URL;VALUE=URI:https://bridgeclubeauze.sportsregions.fr/evenements/2025/12/10/tournoi-du-mercredi-2154467
END:VEVENT
END:VCALENDAR
